BEGIN:VCALENDAR
VERSION:2.0
PRODID:-//Anthony Pfluke - ECPv6.15.20//NONSGML v1.0//EN
CALSCALE:GREGORIAN
METHOD:PUBLISH
X-WR-CALNAME:Anthony Pfluke
X-ORIGINAL-URL:https://anthonypfluke.com
X-WR-CALDESC:Events for Anthony Pfluke
REFRESH-INTERVAL;VALUE=DURATION:PT1H
X-Robots-Tag:noindex
X-PUBLISHED-TTL:PT1H
BEGIN:VTIMEZONE
TZID:UTC
BEGIN:STANDARD
TZOFFSETFROM:+0000
TZOFFSETTO:+0000
TZNAME:UTC
DTSTART:20220101T000000
END:STANDARD
END:VTIMEZONE
BEGIN:VEVENT
DTSTART;TZID=UTC:20230423T063000
DTEND;TZID=UTC:20230423T210000
DTSTAMP:20260423T162510
CREATED:20230315T095916Z
LAST-MODIFIED:20230322T045536Z
UID:127-1682231400-1682283600@anthonypfluke.com
SUMMARY:Nalu's South Shore Grill
DESCRIPTION:We jamming! Nalus South Shore Grill I’ll be flying in to Maui tonight so Anthony Pfluke will be holding it down for us till about 7
URL:https://anthonypfluke.com/events/nalus-south-shore-grill/
LOCATION:Nalu’s Grill\, 1280 S Kihei Rd\,\, Kihei\, HI\, 96753\, United States
ATTACH;FMTTYPE=image/jpeg:https://anthonypfluke.com/wp-content/uploads/2023/03/176702794_10159284511450786_1247862750163699645_n.jpg
END:VEVENT
BEGIN:VEVENT
DTSTART;TZID=UTC:20230311T180000
DTEND;TZID=UTC:20230311T230000
DTSTAMP:20260423T162510
CREATED:20230315T015914Z
LAST-MODIFIED:20230315T095522Z
UID:109-1678557600-1678575600@anthonypfluke.com
SUMMARY:Release Show\, Prince Waikiki
DESCRIPTION:Mahalo nui to my big brothers in music Kala’e Camarillo and Kamaka Camarillo for joining me on my Oʻahu release show for my latest single\, Don’t Stop the Journey. I’ll also be joined by Ethan Villanueva\, and it’s all free at the Prince Waikiki poolside this March 11 6-8. Big thanks to Aaron Mikami for making this possible.
URL:https://anthonypfluke.com/events/prince-waikiki/
LOCATION:Prince Waikiki\, 100 Holomoana St\, Honolulu\, HI\, 96815\, United States
ATTACH;FMTTYPE=image/jpeg:https://anthonypfluke.com/wp-content/uploads/2023/03/334652395_148088134485386_98691409322543421_n.jpg
END:VEVENT
END:VCALENDAR